BEGIN:VCALENDAR
VERSION:2.0
PRODID:-//hacksw/handcal//NONSGML v1.0//EN
BEGIN:VEVENT
DTSTAMP:20160903T090000Z
DTSTART:20160903T090000Z
DTEND:20160903T120000Z
SUMMARY:Straßenfrühschoppen der CDU Bad Oldesloe
END:VEVENT
END:VCALENDAR
