BEGIN:VCALENDAR
VERSION:2.0
PRODID:-//hacksw/handcal//NONSGML v1.0//EN
BEGIN:VEVENT
DTSTAMP:20161229T183000Z
DTSTART:20161229T183000Z
DTEND:20161229T203000Z
LOCATION:Restaurant Kroatien,  Reeshoop 48, Ahrensburg, 22926 , Deutschland
SUMMARY:Politrunde (Stammtisch)
END:VEVENT
END:VCALENDAR
