BEGIN:VCALENDAR
VERSION:2.0
PRODID:-//hacksw/handcal//NONSGML v1.0//EN
BEGIN:VEVENT
DTSTAMP:20161217T230000Z
DTSTART:20161217T230000Z
DTEND:20161217T230000Z
SUMMARY:Weihnachtsmarkt der Markthändler mit Stand der CDU Bargtheide
END:VEVENT
END:VCALENDAR
