BEGIN:VCALENDAR
VERSION:2.0
PRODID:-//hacksw/handcal//NONSGML v1.0//EN
BEGIN:VEVENT
DTSTAMP:20170706T163000Z
DTSTART:20170706T163000Z
DTEND:20170706T190000Z
LOCATION:Park Hotel Ahrensburg, Lübecker Straße 10a, Ahrensburg, 22926, Deutschland
SUMMARY:Das bedingungslose Grundeinkommen – Radikal gerecht?
END:VEVENT
END:VCALENDAR
