BEGIN:VCALENDAR
VERSION:2.0
PRODID:-//hacksw/handcal//NONSGML v1.0//EN
BEGIN:VEVENT
DTSTAMP:20170910T120000Z
DTSTART:20170910T120000Z
DTEND:20170910T160000Z
LOCATION:Grundschule am Reesenbüttel, Schimmelmannstraße 46, Ahrensburg, 22926, Deutschland
SUMMARY:Kinderfest 2017
END:VEVENT
END:VCALENDAR
