BEGIN:VCALENDAR
VERSION:2.0
PRODID:-//hacksw/handcal//NONSGML v1.0//EN
BEGIN:VEVENT
DTSTAMP:20170924T153000Z
DTSTART:20170924T153000Z
DTEND:20170924T153000Z
SUMMARY:Wahlparty der CDU Ahrensburg
END:VEVENT
END:VCALENDAR
