BEGIN:VCALENDAR
VERSION:2.0
PRODID:-//hacksw/handcal//NONSGML v1.0//EN
BEGIN:VEVENT
DTSTAMP:20171019T170000Z
DTSTART:20171019T170000Z
DTEND:20171019T170000Z
LOCATION:Restaurant & Café Klönschnack, Ziegeleistraße 81, Oststeinbek, 22113, Deutschland
SUMMARY:Jahreshauptversammlung CDU-Ortsverbandes Oststeinbek - Havighorst
END:VEVENT
END:VCALENDAR
