BEGIN:VCALENDAR
VERSION:2.0
PRODID:-//hacksw/handcal//NONSGML v1.0//EN
BEGIN:VEVENT
DTSTAMP:20171221T185500Z
DTSTART:20171221T185500Z
DTEND:20171221T185500Z
LOCATION:Parkhotel Ahrensburg, Lübecker Straße, Ahrensburg, 22926, Deutschland
SUMMARY:Ahrensburger Wirtschaftsforum
END:VEVENT
END:VCALENDAR
