BEGIN:VCALENDAR
VERSION:2.0
PRODID:-//hacksw/handcal//NONSGML v1.0//EN
BEGIN:VEVENT
DTSTAMP:20180121T100000Z
DTSTART:20180121T100000Z
DTEND:20180121T100000Z
LOCATION:Bürgerhaus, An der Friedenslinde 3, Delingsdorf, 22941, Deutschland
SUMMARY:Neujahrsempfang der CDU Delingsdorf
END:VEVENT
END:VCALENDAR
