BEGIN:VCALENDAR
VERSION:2.0
PRODID:-//hacksw/handcal//NONSGML v1.0//EN
BEGIN:VEVENT
DTSTAMP:20180121T100000Z
DTSTART:20180121T100000Z
DTEND:20180121T100000Z
LOCATION:Gemeinschaftshaus Rethwisch, Buchraderweg 2, Rethwisch, 23847, Deutschland
SUMMARY:Neujahrsempfang der CDU Rethwisch
END:VEVENT
END:VCALENDAR
