BEGIN:VCALENDAR
VERSION:2.0
PRODID:-//hacksw/handcal//NONSGML v1.0//EN
BEGIN:VEVENT
DTSTAMP:20180331T130000Z
DTSTART:20180331T130000Z
DTEND:20180331T130000Z
LOCATION:Bolzplatz in Stubbendorf, Wesenberg, 23858, Deutschland
SUMMARY:Familien-Osterfest des Ortsverbandes Wesenberg
END:VEVENT
END:VCALENDAR
