BEGIN:VCALENDAR
VERSION:2.0
PRODID:-//hacksw/handcal//NONSGML v1.0//EN
BEGIN:VEVENT
DTSTAMP:20180313T180000Z
DTSTART:20180313T180000Z
DTEND:20180313T180000Z
LOCATION:Schützenhalle, Sehmsdorfer Straße 12, Bad Oldesloe, 23843, Deutschland
SUMMARY:Jahreshauptversammlung des Stadtverbandes Bad Oldesloe
END:VEVENT
END:VCALENDAR
