BEGIN:VCALENDAR
VERSION:2.0
PRODID:-//hacksw/handcal//NONSGML v1.0//EN
BEGIN:VEVENT
DTSTAMP:20180714T163000Z
DTSTART:20180714T163000Z
DTEND:20180714T163000Z
LOCATION:Bargteheide, Am Hilfszentrum, Deutschland
SUMMARY:Karl- May- Festspiele, Bad Segeberg
END:VEVENT
END:VCALENDAR
