BEGIN:VCALENDAR
VERSION:2.0
PRODID:-//hacksw/handcal//NONSGML v1.0//EN
BEGIN:VEVENT
DTSTAMP:20180531T220000Z
DTSTART:20180531T220000Z
DTEND:20180531T220000Z
SUMMARY: Landesvertreterversammlung zur Wahl der Landesliste zur Europawahl 2019
END:VEVENT
END:VCALENDAR
