BEGIN:VCALENDAR
VERSION:2.0
PRODID:-//hacksw/handcal//NONSGML v1.0//EN
BEGIN:VEVENT
DTSTAMP:20180502T173000Z
DTSTART:20180502T173000Z
DTEND:20180502T193000Z
LOCATION:Cavallino, Querweg 1, Ahrensburg, 22926, Deutschland
SUMMARY:CDU Ahrensburg lädt zur Podiumsdiskussion ein
END:VEVENT
END:VCALENDAR
