BEGIN:VCALENDAR
VERSION:2.0
PRODID:-//hacksw/handcal//NONSGML v1.0//EN
BEGIN:VEVENT
DTSTAMP:20180920T173000Z
DTSTART:20180920T173000Z
DTEND:20180920T173000Z
LOCATION:Restaurant Hellena (beim Sportplatz), Barsbüttleler Weg 30, Oststeinbek, 22113, Deutschland
SUMMARY:Jahreshauptversammlung der CDU Oststeinbek - Havighorst
END:VEVENT
END:VCALENDAR
