BEGIN:VCALENDAR
VERSION:2.0
PRODID:-//hacksw/handcal//NONSGML v1.0//EN
BEGIN:VEVENT
DTSTAMP:20181109T183000Z
DTSTART:20181109T183000Z
DTEND:20181109T183000Z
LOCATION:Kratzmannschen Kate, Reinbeker Straße 4, Stapelfeld, 22145, Deutschland
SUMMARY:Jahreshauptversammlung der CDU Stapelfeld
END:VEVENT
END:VCALENDAR
