BEGIN:VCALENDAR
VERSION:2.0
PRODID:-//hacksw/handcal//NONSGML v1.0//EN
BEGIN:VEVENT
DTSTAMP:20190413T170000Z
DTSTART:20190413T170000Z
DTEND:20190413T170000Z
LOCATION:Glantz & Gloria, Hamburger Straße 2b, Delingsdorf, 22941, Deutschland
SUMMARY:Spargelessen der CDU Delingsdorf
END:VEVENT
END:VCALENDAR
