BEGIN:VCALENDAR
VERSION:2.0
PRODID:-//hacksw/handcal//NONSGML v1.0//EN
BEGIN:VEVENT
DTSTAMP:20190907T120000Z
DTSTART:20190907T120000Z
DTEND:20190907T160000Z
LOCATION:Gemeinschaftshaus Pölitz, Deutschland
SUMMARY:Familiennachmittag der CDU Pölitz
END:VEVENT
END:VCALENDAR
