BEGIN:VCALENDAR
VERSION:2.0
PRODID:-//hacksw/handcal//NONSGML v1.0//EN
BEGIN:VEVENT
DTSTAMP:20190121T183000Z
DTSTART:20190121T183000Z
DTEND:20190121T183000Z
LOCATION:Gemeinschaftshaus, Schulstraße 1, Pölitz, Deutschland
SUMMARY:Mitgliederversammlung der CDU Pölitz
END:VEVENT
END:VCALENDAR
