BEGIN:VCALENDAR
VERSION:2.0
PRODID:-//hacksw/handcal//NONSGML v1.0//EN
BEGIN:VEVENT
DTSTAMP:20190120T100000Z
DTSTART:20190120T100000Z
DTEND:20190120T113000Z
LOCATION:Ahrensburger Rathaus, Manfred-samusch-straße 5, Ahrensburg, 22926, Deutschland
SUMMARY:Neujahrsempfang der CDU Ahrensburg 2019
END:VEVENT
END:VCALENDAR
