BEGIN:VCALENDAR
VERSION:2.0
PRODID:-//hacksw/handcal//NONSGML v1.0//EN
BEGIN:VEVENT
DTSTAMP:20190227T180000Z
DTSTART:20190227T180000Z
DTEND:20190227T180000Z
LOCATION:Erich-Kästner-Gemeinschaftsschule, Soltausredder 28, Barsbüttel, Deutschland
SUMMARY:Europakandidat Niclas Herbst - Europa vor der Wahl in Barsbüttel
END:VEVENT
END:VCALENDAR
