BEGIN:VCALENDAR
VERSION:2.0
PRODID:-//hacksw/handcal//NONSGML v1.0//EN
BEGIN:VEVENT
DTSTAMP:20190309T090000Z
DTSTART:20190309T090000Z
DTEND:20190309T090000Z
LOCATION:Hotel Wiggers, Bahnhofstraße 33, Bad Oldesloe, 23843, Deutschland
SUMMARY:Jahreshauptversammlung der CDU Bad Oldesloe
END:VEVENT
END:VCALENDAR
