BEGIN:VCALENDAR
VERSION:2.0
PRODID:-//hacksw/handcal//NONSGML v1.0//EN
BEGIN:VEVENT
DTSTAMP:20190403T173000Z
DTSTART:20190403T173000Z
DTEND:20190403T173000Z
LOCATION:Stormarnschule - Eduard Söring Saal, Waldstraße 14, Ahrensburg, 22926, Deutschland
SUMMARY:Besuch von Bosbach in Ahrensburg
END:VEVENT
END:VCALENDAR
