BEGIN:VCALENDAR
VERSION:2.0
PRODID:-//hacksw/handcal//NONSGML v1.0//EN
BEGIN:VEVENT
DTSTAMP:20190329T183000Z
DTSTART:20190329T183000Z
DTEND:20190329T183000Z
LOCATION:"Neue Hofküche" (Gut Tangstedt), Deutschland
SUMMARY:Jahreshauptversammlung der CDU Tangstedt
END:VEVENT
END:VCALENDAR
