BEGIN:VCALENDAR
VERSION:2.0
PRODID:-//hacksw/handcal//NONSGML v1.0//EN
BEGIN:VEVENT
DTSTAMP:20191013T080000Z
DTSTART:20191013T080000Z
DTEND:20191013T080000Z
SUMMARY:Herbstwanderung mit Jochen Meder der CDU Steinburg
END:VEVENT
END:VCALENDAR
