BEGIN:VCALENDAR
VERSION:2.0
PRODID:-//hacksw/handcal//NONSGML v1.0//EN
BEGIN:VEVENT
DTSTAMP:20191107T183000Z
DTSTART:20191107T183000Z
DTEND:20191107T183000Z
LOCATION:Restaurant Strehl, Ahrensburg, Deutschland
SUMMARY:Grünkohlessen der CDU Großhansdorf mit Tobias Koch
END:VEVENT
END:VCALENDAR
