BEGIN:VCALENDAR
VERSION:2.0
PRODID:-//hacksw/handcal//NONSGML v1.0//EN
BEGIN:VEVENT
DTSTAMP:20190421T090000Z
DTSTART:20190421T090000Z
DTEND:20190421T090000Z
LOCATION:Eichede am Dorfanger, Deutschland
SUMMARY:Ostereier suchen mit dem Ortsverband Steinburg
END:VEVENT
END:VCALENDAR
