BEGIN:VCALENDAR
VERSION:2.0
PRODID:-//hacksw/handcal//NONSGML v1.0//EN
BEGIN:VEVENT
DTSTAMP:20190518T120000Z
DTSTART:20190518T120000Z
DTEND:20190518T120000Z
LOCATION:Parkplatz alte Reitbahn, Deutschland
SUMMARY:Stadtrundfahrt mit Planwagen der CDU Ahrensburg
END:VEVENT
END:VCALENDAR
