BEGIN:VCALENDAR
VERSION:2.0
PRODID:-//hacksw/handcal//NONSGML v1.0//EN
BEGIN:VEVENT
DTSTAMP:20190627T170000Z
DTSTART:20190627T170000Z
DTEND:20190627T170000Z
LOCATION:Stadtbücherei, Manfred-Samusch-Straße 3, Ahrensburg, 22926, Deutschland
SUMMARY:Politrunde: "Bienen und Insekten"
END:VEVENT
END:VCALENDAR
