BEGIN:VCALENDAR
VERSION:2.0
PRODID:-//hacksw/handcal//NONSGML v1.0//EN
BEGIN:VEVENT
DTSTAMP:20191016T220000Z
DTSTART:20191016T220000Z
DTEND:20191016T220000Z
SUMMARY:Tagesfahrt zum Bundestag nach Berlin mit der CDU Bad Oldesloe
END:VEVENT
END:VCALENDAR
