BEGIN:VCALENDAR
VERSION:2.0
PRODID:-//hacksw/handcal//NONSGML v1.0//EN
BEGIN:VEVENT
DTSTAMP:20190915T130000Z
DTSTART:20190915T130000Z
DTEND:20190915T130000Z
LOCATION:Grundschule am Reesenbüttel, Schimmelmannstraße 46, Ahrensburg, Deutschland
SUMMARY:Traditionelles Kinder- und Familienfest der CDU Ahrensburg
END:VEVENT
END:VCALENDAR
