BEGIN:VCALENDAR
VERSION:2.0
PRODID:-//hacksw/handcal//NONSGML v1.0//EN
BEGIN:VEVENT
DTSTAMP:20191003T080000Z
DTSTART:20191003T080000Z
DTEND:20191003T180000Z
SUMMARY:Fahrt zum Tag der Deutschen Einheit in Kiel
END:VEVENT
END:VCALENDAR
