BEGIN:VCALENDAR
VERSION:2.0
PRODID:-//hacksw/handcal//NONSGML v1.0//EN
BEGIN:VEVENT
DTSTAMP:20191012T120000Z
DTSTART:20191012T120000Z
DTEND:20191012T120000Z
LOCATION:Hof Soltau, Meienfelde 2, Barsbüttel, 22885, Deutschland
SUMMARY:Diskussionsveranstaltung über Nachhaltige Ernährung der CDU Barsbüttel
END:VEVENT
END:VCALENDAR
