BEGIN:VCALENDAR
VERSION:2.0
PRODID:-//hacksw/handcal//NONSGML v1.0//EN
BEGIN:VEVENT
DTSTAMP:20191123T143000Z
DTSTART:20191123T143000Z
DTEND:20191123T143000Z
LOCATION:Jürgen-Rickertsen-Haus, Schulstraße 7, Reinbek, Deutschland
SUMMARY:Adventskaffee der CDU Reinbek
END:VEVENT
END:VCALENDAR
