BEGIN:VCALENDAR
VERSION:2.0
PRODID:-//hacksw/handcal//NONSGML v1.0//EN
BEGIN:VEVENT
DTSTAMP:20191121T083000Z
DTSTART:20191121T083000Z
DTEND:20191121T083000Z
LOCATION:LungenClinic , Großhansdorf, Deutschland
SUMMARY:Tobias Koch und Oliver Grundei besuchen die LungenClinic Großhansdorf
END:VEVENT
END:VCALENDAR
