BEGIN:VCALENDAR
VERSION:2.0
PRODID:-//hacksw/handcal//NONSGML v1.0//EN
BEGIN:VEVENT
DTSTAMP:20201011T113000Z
DTSTART:20201011T113000Z
DTEND:20201011T113000Z
SUMMARY:Herbsttour mit Jochen Meder und der CDU Steinburg
END:VEVENT
END:VCALENDAR
