BEGIN:VCALENDAR
VERSION:2.0
PRODID:-//hacksw/handcal//NONSGML v1.0//EN
BEGIN:VEVENT
DTSTAMP:20200229T170000Z
DTSTART:20200229T170000Z
DTEND:20200229T170000Z
LOCATION:Vino e Prosecco, Dorfstraße 8, Deutschland
SUMMARY:Weinabend in Sprenge der CDU Steinburg
END:VEVENT
END:VCALENDAR
