BEGIN:VCALENDAR
VERSION:2.0
PRODID:-//hacksw/handcal//NONSGML v1.0//EN
BEGIN:VEVENT
DTSTAMP:20200205T180000Z
DTSTART:20200205T180000Z
DTEND:20200205T180000Z
LOCATION:Waldreitersaal, Großhansdorf, Deutschland
SUMMARY:Jahreshauptversammlung der CDU Großhansdorf mit Tobias Koch, MdL
END:VEVENT
END:VCALENDAR
