BEGIN:VCALENDAR
VERSION:2.0
PRODID:-//hacksw/handcal//NONSGML v1.0//EN
BEGIN:VEVENT
DTSTAMP:20200119T100000Z
DTSTART:20200119T100000Z
DTEND:20200119T100000Z
LOCATION:Bürgerhaus Delingsdorf, An der Friedenslinde 3, Delingsdorf, Deutschland
SUMMARY:Neujahrsempfang der CDU Delingsdorf mit Bettina Spechtmeyer-Högel
END:VEVENT
END:VCALENDAR
