BEGIN:VCALENDAR
VERSION:2.0
PRODID:-//hacksw/handcal//NONSGML v1.0//EN
BEGIN:VEVENT
DTSTAMP:20200112T093000Z
DTSTART:20200112T093000Z
DTEND:20200112T093000Z
LOCATION:Mehrzweckhaus Hammoor, Deutschland
SUMMARY:Neujahrsempfang der CDU Hammoor
END:VEVENT
END:VCALENDAR
