BEGIN:VCALENDAR
VERSION:2.0
PRODID:-//hacksw/handcal//NONSGML v1.0//EN
BEGIN:VEVENT
DTSTAMP:20200813T220000Z
DTSTART:20200813T220000Z
DTEND:20200813T220000Z
SUMMARY:Storchenfest der CDU Hammoor
END:VEVENT
END:VCALENDAR
