BEGIN:VCALENDAR
VERSION:2.0
PRODID:-//hacksw/handcal//NONSGML v1.0//EN
BEGIN:VEVENT
DTSTAMP:20201105T183000Z
DTSTART:20201105T183000Z
DTEND:20201105T183000Z
LOCATION:Restaurant Strehl, Deutschland
SUMMARY:Traditionelles Grünkohlessen mit Tobias Koch MdL von der CDU Großhansdorf
END:VEVENT
END:VCALENDAR
