BEGIN:VCALENDAR
VERSION:2.0
PRODID:-//hacksw/handcal//NONSGML v1.0//EN
BEGIN:VEVENT
DTSTAMP:20201003T120000Z
DTSTART:20201003T120000Z
DTEND:20201003T120000Z
LOCATION:Marstall , Ahrensburg, Deutschland
SUMMARY:Veranstaltung zu 30 Jahren Wiedervereinigung der Senioren Union Stormarn
END:VEVENT
END:VCALENDAR
