BEGIN:VCALENDAR
VERSION:2.0
PRODID:-//hacksw/handcal//NONSGML v1.0//EN
BEGIN:VEVENT
DTSTAMP:20200312T180000Z
DTSTART:20200312T180000Z
DTEND:20200312T180000Z
LOCATION:Restaurant Rohlfshagener Kupfermühle, Tremsbüttel, Deutschland
SUMMARY:Jahreshauptversammlung der CDU Rümpel
END:VEVENT
END:VCALENDAR
