BEGIN:VCALENDAR
VERSION:2.0
PRODID:-//hacksw/handcal//NONSGML v1.0//EN
BEGIN:VEVENT
DTSTAMP:20200323T183000Z
DTSTART:20200323T183000Z
DTEND:20200323T183000Z
LOCATION:Mehrzweckhaus , Todendorf, Deutschland
SUMMARY:Jahreshauptversammlung der CDU Todendorf
END:VEVENT
END:VCALENDAR
