BEGIN:VCALENDAR
VERSION:2.0
PRODID:-//hacksw/handcal//NONSGML v1.0//EN
BEGIN:VEVENT
DTSTAMP:20200327T180000Z
DTSTART:20200327T180000Z
DTEND:20200327T180000Z
LOCATION:Schützenhalle Pölitz, Deutschland
SUMMARY:Stars ut Stormarn, Theaterabend der CDU Pölitz
END:VEVENT
END:VCALENDAR
