BEGIN:VCALENDAR
VERSION:2.0
PRODID:-//hacksw/handcal//NONSGML v1.0//EN
BEGIN:VEVENT
DTSTAMP:20210303T183000Z
DTSTART:20210303T183000Z
DTEND:20210303T183000Z
LOCATION:digital via Cisco Webex, Deutschland
SUMMARY:Digitaltalk der MIT Stormarn zu Corona
END:VEVENT
END:VCALENDAR
