BEGIN:VCALENDAR
VERSION:2.0
PRODID:-//hacksw/handcal//NONSGML v1.0//EN
BEGIN:VEVENT
DTSTAMP:20210731T170000Z
DTSTART:20210731T170000Z
DTEND:20210731T190000Z
LOCATION:Dorfgemeinschaftshaus Lütjensee, Großenseer Strasse 20, Lütjensee, 22952, Deutschland
SUMMARY:Gründung der Frauen Union Stormarn
END:VEVENT
END:VCALENDAR
