BEGIN:VCALENDAR
VERSION:2.0
PRODID:-//hacksw/handcal//NONSGML v1.0//EN
BEGIN:VEVENT
DTSTAMP:20210812T170000Z
DTSTART:20210812T170000Z
DTEND:20210812T170000Z
LOCATION:Sportplatz des TSV Badendorf e. V., Dorfstrasse 43 a, Badendorf, 23619, Deutschland
SUMMARY:Wahlkreismitgliederversammlung im Landtagswahlkreis Stormarn-Nord
END:VEVENT
END:VCALENDAR
